BEGIN:VCALENDAR
VERSION:2.0
METHOD:PUBLISH
CALSCALE:GREGORIAN
PRODID:-//Refresh Web Development//Helios Calendar//EN
X-FROM-URL:https://www.bayareascience.org/calendar/index.php?com=details&eID=37244
X-WR-RELCALID:BayAreaScience.org AI Healthcare Conference at Stanford University 20250117T070000
X-WR-TIMEZONE:America/New_York
X-WR-CALNAME:BayAreaScience.org
BEGIN:VEVENT
URL;VALUE=URI:https://www.bayareascience.org/calendar/index.php?com=detail&eID=37244
DTSTART:20250117T070000
DTEND:20250117T190000
SUMMARY:AI Healthcare Conference at Stanford University
DESCRIPTION:Introducing T.H.I.N.K (Technology in Healthcare: Integration\, Networks\, and Knowledge) ??" a groundbreaking conference series that redefines the intersection of technology and healthcare. T.H.I.N.K...\n______________________________\nThis Event Downloaded From a Helios Calendar Powered Site
LOCATION:Stanford Faculty Club - Stanford University 439 Lagunita Ave\, Stanford\, CA  94305
CATEGORIES:BayAreaScience.org Events
PRIORITY:0
TRANSP:TRANSPARENT
END:VEVENT
END:VCALENDAR