BEGIN:VCALENDAR
VERSION:2.0
METHOD:PUBLISH
CALSCALE:GREGORIAN
PRODID:-//Refresh Web Development//Helios Calendar//EN
X-FROM-URL:https://www.bayareascience.org/calendar/index.php?com=details&eID=37249
X-WR-RELCALID:BayAreaScience.org Long Now: 'Abundance' 20250327T193000
X-WR-TIMEZONE:America/New_York
X-WR-CALNAME:BayAreaScience.org
BEGIN:VEVENT
URL;VALUE=URI:https://www.bayareascience.org/calendar/index.php?com=detail&eID=37249
DTSTART:20250327T193000
DTEND:20250327T193000
SUMMARY:Long Now: 'Abundance'
DESCRIPTION:Ezra Klein and Derek Thompson's forthcoming book Abundance is a once-in-a-generation\, paradigm-shifting call to rethink big\, entrenched problems that seem mired in systemic scarcity: from climate...\n______________________________\nThis Event Downloaded From a Helios Calendar Powered Site
LOCATION:Sydney Goldstein Theater - 275 Hayes St \, San Francisco\, CA  94102
CATEGORIES:BayAreaScience.org Events
PRIORITY:0
TRANSP:TRANSPARENT
END:VEVENT
END:VCALENDAR