BEGIN:VCALENDAR
VERSION:2.0
METHOD:PUBLISH
CALSCALE:GREGORIAN
PRODID:-//Refresh Web Development//Helios Calendar//EN
X-FROM-URL:https://www.bayareascience.org/calendar/index.php?com=details&eID=37274
X-WR-RELCALID:BayAreaScience.org  Rising to the Challenge: A Flood-Resilient San Francisco - Livestream 20250116T120000
X-WR-TIMEZONE:America/New_York
X-WR-CALNAME:BayAreaScience.org
BEGIN:VEVENT
URL;VALUE=URI:https://www.bayareascience.org/calendar/index.php?com=detail&eID=37274
DTSTART:20250116T120000
DTEND:20250116T130000
SUMMARY: Rising to the Challenge: A Flood-Resilient San Francisco - Livestream
DESCRIPTION:SPUR and the San Francisco Public Utilities Commission (SFPUC) invite you to an engaging conversation about bold efforts to protect our city’s future. Join this webinar to learn about the SFPUC’s...\n______________________________\nThis Event Downloaded From a Helios Calendar Powered Site
LOCATION:SF Planning + Urban Research Assoc (SPUR) -  \, \, CA  
CATEGORIES:BayAreaScience.org Events
PRIORITY:0
TRANSP:TRANSPARENT
END:VEVENT
END:VCALENDAR