BEGIN:VCALENDAR
VERSION:2.0
METHOD:PUBLISH
CALSCALE:GREGORIAN
PRODID:-//Refresh Web Development//Helios Calendar//EN
X-FROM-URL:https://www.bayareascience.org/calendar/index.php?com=details&eID=37305
X-WR-RELCALID:BayAreaScience.org FutureFest 2025: A conversation with the leaders of two Silicon Valley icons 20250123T170000
X-WR-TIMEZONE:America/New_York
X-WR-CALNAME:BayAreaScience.org
BEGIN:VEVENT
URL;VALUE=URI:https://www.bayareascience.org/calendar/index.php?com=detail&eID=37305
DTSTART:20250123T170000
DTEND:20250123T190000
SUMMARY:FutureFest 2025: A conversation with the leaders of two Silicon Valley icons
DESCRIPTION:As 2025 begins\, join us for a conversation about pushing the frontier of innovation with Astro Teller\, Captain of Moonshots at X (formerly Google X)\, and David Parekh\, CEO of SRI. Together\, with...\n______________________________\nThis Event Downloaded From a Helios Calendar Powered Site
LOCATION:PARC Forum - 3333 Coyote Hill Road Palo Alto Research Center\, George E. Pake Auditorium\, Palo Alto\, CA USA 94304
CATEGORIES:BayAreaScience.org Events
PRIORITY:0
TRANSP:TRANSPARENT
END:VEVENT
END:VCALENDAR