BEGIN:VCALENDAR
VERSION:2.0
METHOD:PUBLISH
CALSCALE:GREGORIAN
PRODID:-//Refresh Web Development//Helios Calendar//EN
X-FROM-URL:https://www.bayareascience.org/calendar/index.php?com=details&eID=37307
X-WR-RELCALID:BayAreaScience.org Weekend Workshop: Radical Reactions 20250125T130000
X-WR-TIMEZONE:America/New_York
X-WR-CALNAME:BayAreaScience.org
BEGIN:VEVENT
URL;VALUE=URI:https://www.bayareascience.org/calendar/index.php?com=detail&eID=37307
DTSTART:20250125T130000
DTEND:20250125T150000
SUMMARY:Weekend Workshop: Radical Reactions
DESCRIPTION:Get hands-on with several different chemistry experiments and demonstrations. Learn how common household materials can be used to measure ph\, or cause explosive reactions. Get ready to see what...\n______________________________\nThis Event Downloaded From a Helios Calendar Powered Site
LOCATION:CuriOdyssey - 1651 Coyote Point Drive \, San Mateo\, CA USA 94401
CATEGORIES:BayAreaScience.org Events
PRIORITY:0
TRANSP:TRANSPARENT
END:VEVENT
END:VCALENDAR