BEGIN:VCALENDAR
VERSION:2.0
METHOD:PUBLISH
CALSCALE:GREGORIAN
PRODID:-//Refresh Web Development//Helios Calendar//EN
X-FROM-URL:https://www.bayareascience.org/calendar/index.php?com=details&eID=37308
X-WR-RELCALID:BayAreaScience.org Weekend Workshop: Adapted for Survival 20250111T130000
X-WR-TIMEZONE:America/New_York
X-WR-CALNAME:BayAreaScience.org
BEGIN:VEVENT
URL;VALUE=URI:https://www.bayareascience.org/calendar/index.php?com=detail&eID=37308
DTSTART:20250111T130000
DTEND:20250111T150000
SUMMARY:Weekend Workshop: Adapted for Survival
DESCRIPTION:Discover the amazing world of animal adaptations and learn how different creatures survive in the wild by meeting live animals\, examining biofacts\, and playing fun games. Through these engaging...\n______________________________\nThis Event Downloaded From a Helios Calendar Powered Site
LOCATION:CuriOdyssey - 1651 Coyote Point Drive \, San Mateo\, CA USA 94401
CATEGORIES:BayAreaScience.org Events
PRIORITY:0
TRANSP:TRANSPARENT
END:VEVENT
END:VCALENDAR