BEGIN:VCALENDAR
VERSION:2.0
METHOD:PUBLISH
CALSCALE:GREGORIAN
PRODID:-//Refresh Web Development//Helios Calendar//EN
X-FROM-URL:https://www.bayareascience.org/calendar/index.php?com=details&eID=37310
X-WR-RELCALID:BayAreaScience.org Science Saturday: Fabulous Fungi 20250222T100000
X-WR-TIMEZONE:America/New_York
X-WR-CALNAME:BayAreaScience.org
BEGIN:VEVENT
URL;VALUE=URI:https://www.bayareascience.org/calendar/index.php?com=detail&eID=37310
DTSTART:20250222T100000
DTEND:20250222T150000
SUMMARY:Science Saturday: Fabulous Fungi
DESCRIPTION:Join us for our Free Science Saturday event\, where we will explore the fabulous world of Fungi and Mushrooms. Learn about native mushrooms and fungi local to the central coast and the vital role...\n______________________________\nThis Event Downloaded From a Helios Calendar Powered Site
LOCATION:Pacific Grove Museum of Natural History - 165 Forest Ave \, Pacific Grove\, CA  93950
CATEGORIES:BayAreaScience.org Events
PRIORITY:0
TRANSP:TRANSPARENT
END:VEVENT
END:VCALENDAR