BEGIN:VCALENDAR
VERSION:2.0
METHOD:PUBLISH
CALSCALE:GREGORIAN
PRODID:-//Refresh Web Development//Helios Calendar//EN
X-FROM-URL:https://www.bayareascience.org/calendar/index.php?com=details&eID=37317
X-WR-RELCALID:BayAreaScience.org   Unlocking Nature's Secrets: The Art and Science of Wildlife Tracking for Conservation and Adventure! 20250114T193000
X-WR-TIMEZONE:America/New_York
X-WR-CALNAME:BayAreaScience.org
BEGIN:VEVENT
URL;VALUE=URI:https://www.bayareascience.org/calendar/index.php?com=detail&eID=37317
DTSTART:20250114T193000
DTEND:20250114T193000
SUMMARY:  Unlocking Nature's Secrets: The Art and Science of Wildlife Tracking for Conservation and Adventure!
DESCRIPTION:Bart Kowalski is a passionate wildlife tracker and an ecologist with over 10 years of experience in wildlife management\, sensitive species monitoring\, and habitat restoration. He has earned a Level...\n______________________________\nThis Event Downloaded From a Helios Calendar Powered Site
LOCATION:Pacific Grove Museum of Natural History - 165 Forest Ave \, Pacific Grove\, CA  93950
CATEGORIES:BayAreaScience.org Events
PRIORITY:0
TRANSP:TRANSPARENT
END:VEVENT
END:VCALENDAR