BEGIN:VCALENDAR
VERSION:2.0
METHOD:PUBLISH
CALSCALE:GREGORIAN
PRODID:-//Refresh Web Development//Helios Calendar//EN
X-FROM-URL:https://www.bayareascience.org/calendar/index.php?com=details&eID=37326
X-WR-RELCALID:BayAreaScience.org Ask an Epidemiologist! Everything you wanted to know about the flu (and vaccines) but were afraid to ask 20250212T193000
X-WR-TIMEZONE:America/New_York
X-WR-CALNAME:BayAreaScience.org
BEGIN:VEVENT
URL;VALUE=URI:https://www.bayareascience.org/calendar/index.php?com=detail&eID=37326
DTSTART:20250212T193000
DTEND:20250212T203000
SUMMARY:Ask an Epidemiologist! Everything you wanted to know about the flu (and vaccines) but were afraid to ask
DESCRIPTION:Ever wondered how the flu spreads and how scientists predict what it’s going to do? How about the flu vaccine? Join us to learn all about that and more from two local public health researchers!Speakers:...\n______________________________\nThis Event Downloaded From a Helios Calendar Powered Site
LOCATION:Marin Science Seminar - 320 Nova Albion Way Terra Linda High School Innovation Hub 1st Floor\, San Rafael\, CA USA 94903
CATEGORIES:BayAreaScience.org Events
PRIORITY:0
TRANSP:TRANSPARENT
END:VEVENT
END:VCALENDAR