BEGIN:VCALENDAR
VERSION:2.0
METHOD:PUBLISH
CALSCALE:GREGORIAN
PRODID:-//Refresh Web Development//Helios Calendar//EN
X-FROM-URL:https://www.bayareascience.org/calendar/index.php?com=details&eID=37335
X-WR-RELCALID:BayAreaScience.org Exploring Astronomy Through Touch Using 3D Printing 20250219T190000
X-WR-TIMEZONE:America/New_York
X-WR-CALNAME:BayAreaScience.org
BEGIN:VEVENT
URL;VALUE=URI:https://www.bayareascience.org/calendar/index.php?com=detail&eID=37335
DTSTART:20250219T190000
DTEND:20250219T210000
SUMMARY:Exploring Astronomy Through Touch Using 3D Printing
DESCRIPTION:The possibility of a future in astronomy\,...\n______________________________\nThis Event Downloaded From a Helios Calendar Powered Site
LOCATION:San Francisco Amateur Astronomers - Randall Museum 199 Museum Way\, San Francisco\, CA  94114
CATEGORIES:BayAreaScience.org Events
PRIORITY:0
TRANSP:TRANSPARENT
END:VEVENT
END:VCALENDAR