BEGIN:VCALENDAR
VERSION:2.0
METHOD:PUBLISH
CALSCALE:GREGORIAN
PRODID:-//Refresh Web Development//Helios Calendar//EN
X-FROM-URL:https://www.bayareascience.org/calendar/index.php?com=details&eID=37340
X-WR-RELCALID:BayAreaScience.org Why Silicon Valley Bank Crashed -What You Need to Know 20250115T190000
X-WR-TIMEZONE:America/New_York
X-WR-CALNAME:BayAreaScience.org
BEGIN:VEVENT
URL;VALUE=URI:https://www.bayareascience.org/calendar/index.php?com=detail&eID=37340
DTSTART:20250115T190000
DTEND:20250115T210000
SUMMARY:Why Silicon Valley Bank Crashed -What You Need to Know
DESCRIPTION:Why did Silicon Valley Bank fail this year\, despite Dodd-Frank and despite seasoned senior managers? You get an explanation of some of the more important risk issues\, FICO scores\, Loss Given...\n______________________________\nThis Event Downloaded From a Helios Calendar Powered Site
LOCATION:Valley Research Park - 319 N Bernardo Ave \, Mountain View\, CA  94043
CATEGORIES:BayAreaScience.org Events
PRIORITY:0
TRANSP:TRANSPARENT
END:VEVENT
END:VCALENDAR