BEGIN:VCALENDAR
VERSION:2.0
METHOD:PUBLISH
CALSCALE:GREGORIAN
PRODID:-//Refresh Web Development//Helios Calendar//EN
X-FROM-URL:https://www.bayareascience.org/calendar/index.php?com=details&eID=37341
X-WR-RELCALID:BayAreaScience.org Bitcoin+: Blockchain Architectures, Stablecoins, & Its Transformative Potential 20250127T190000
X-WR-TIMEZONE:America/New_York
X-WR-CALNAME:BayAreaScience.org
BEGIN:VEVENT
URL;VALUE=URI:https://www.bayareascience.org/calendar/index.php?com=detail&eID=37341
DTSTART:20250127T190000
DTEND:20250127T210000
SUMMARY:Bitcoin+: Blockchain Architectures\, Stablecoins\, & Its Transformative Potential
DESCRIPTION:Blockchain technology\, widely recognized as the backbone of Bitcoin\, has emerged as a revolutionary force poised to redefine industries far beyond cryptocurrencies. This talk delves...\n______________________________\nThis Event Downloaded From a Helios Calendar Powered Site
LOCATION:Valley Research Park - 319 N Bernardo Ave \, Mountain View\, CA  94043
CATEGORIES:BayAreaScience.org Events
PRIORITY:0
TRANSP:TRANSPARENT
END:VEVENT
END:VCALENDAR