BEGIN:VCALENDAR
VERSION:2.0
METHOD:PUBLISH
CALSCALE:GREGORIAN
PRODID:-//Refresh Web Development//Helios Calendar//EN
X-FROM-URL:https://www.bayareascience.org/calendar/index.php?com=details&eID=37342
X-WR-RELCALID:BayAreaScience.org Mushroom Monday: Open Labs 20241228T153000
X-WR-TIMEZONE:America/New_York
X-WR-CALNAME:BayAreaScience.org
BEGIN:VEVENT
URL;VALUE=URI:https://www.bayareascience.org/calendar/index.php?com=detail&eID=37342
DTSTART:20241228T153000
DTEND:20241228T173000
SUMMARY:Mushroom Monday: Open Labs
DESCRIPTION:Join Counter Culture Labs for an exciting journey into the realm mycology\, DIYbio\, and citizen science. Don't miss this opportunity to unleash your creativity and explore fungi...\n______________________________\nThis Event Downloaded From a Helios Calendar Powered Site
LOCATION:Counter Culture Labs - Omni Oakland Commons 4799 Shattuck Ave\, Oakland\, CA USA 94609
CATEGORIES:BayAreaScience.org Events
PRIORITY:0
TRANSP:TRANSPARENT
END:VEVENT
END:VCALENDAR