BEGIN:VCALENDAR
VERSION:2.0
METHOD:PUBLISH
CALSCALE:GREGORIAN
PRODID:-//Refresh Web Development//Helios Calendar//EN
X-FROM-URL:https://www.bayareascience.org/calendar/index.php?com=details&eID=37343
X-WR-RELCALID:BayAreaScience.org Aurora - One of Nature’s Amazing Light Shows 20250111T193000
X-WR-TIMEZONE:America/New_York
X-WR-CALNAME:BayAreaScience.org
BEGIN:VEVENT
URL;VALUE=URI:https://www.bayareascience.org/calendar/index.php?com=detail&eID=37343
DTSTART:20250111T193000
DTEND:20250111T193000
SUMMARY:Aurora - One of Nature’s Amazing Light Shows
DESCRIPTION:Last year\, California was treated to four - rare for California - auroral displays. Some of them were strong enough to be seen in the greater Bay Area. What causes them? How did they get this far...\n______________________________\nThis Event Downloaded From a Helios Calendar Powered Site
LOCATION:East Bay Astronomical Society - Chabot Space & Science Center\, 10000 Skyline Blvd Classroom 4 formerly knows as Copernicus\, Oakland\, CA  94619
CATEGORIES:BayAreaScience.org Events
PRIORITY:0
TRANSP:TRANSPARENT
END:VEVENT
END:VCALENDAR