BEGIN:VCALENDAR
VERSION:2.0
METHOD:PUBLISH
CALSCALE:GREGORIAN
PRODID:-//Refresh Web Development//Helios Calendar//EN
X-FROM-URL:https://www.bayareascience.org/calendar/index.php?com=details&eID=37359
X-WR-RELCALID:BayAreaScience.org First Friday: AFROFUTURISM 20250207T180000
X-WR-TIMEZONE:America/New_York
X-WR-CALNAME:BayAreaScience.org
BEGIN:VEVENT
URL;VALUE=URI:https://www.bayareascience.org/calendar/index.php?com=detail&eID=37359
DTSTART:20250207T180000
DTEND:20250207T220000
SUMMARY:First Friday: AFROFUTURISM
DESCRIPTION:This First Friday\, celebrate Black History Month and Black Futures at the Chabot Space and Science Center. Tinker with hands-on robotics designed by youth engineers at...\n______________________________\nThis Event Downloaded From a Helios Calendar Powered Site
LOCATION:Chabot Space and Science Center - 10000 Skyline Blvd \, Oakland\, CA USA 94619
CATEGORIES:BayAreaScience.org Events
PRIORITY:0
TRANSP:TRANSPARENT
END:VEVENT
END:VCALENDAR