BEGIN:VCALENDAR
VERSION:2.0
METHOD:PUBLISH
CALSCALE:GREGORIAN
PRODID:-//Refresh Web Development//Helios Calendar//EN
X-FROM-URL:https://www.bayareascience.org/calendar/index.php?com=details&eID=37365
X-WR-RELCALID:BayAreaScience.org Family Nature Adventures: Fungus Among Us - RESCHEDULED 20250809T103000
X-WR-TIMEZONE:America/New_York
X-WR-CALNAME:BayAreaScience.org
BEGIN:VEVENT
URL;VALUE=URI:https://www.bayareascience.org/calendar/index.php?com=detail&eID=37365
DTSTART:20250809T103000
DTEND:20250809T123000
SUMMARY:Family Nature Adventures: Fungus Among Us - RESCHEDULED
DESCRIPTION:Unlock the mysterious world of fungi that thrives in the redwood forest! Learn about the fascinating life cycle of mushrooms\, their role in the ecosystem\, and how to identify...\n______________________________\nThis Event Downloaded From a Helios Calendar Powered Site
LOCATION:Chabot Space and Science Center - 10000 Skyline Blvd \, Oakland\, CA USA 94619
CATEGORIES:BayAreaScience.org Events
PRIORITY:0
TRANSP:TRANSPARENT
END:VEVENT
END:VCALENDAR