BEGIN:VCALENDAR
VERSION:2.0
METHOD:PUBLISH
CALSCALE:GREGORIAN
PRODID:-//Refresh Web Development//Helios Calendar//EN
X-FROM-URL:https://www.bayareascience.org/calendar/index.php?com=details&eID=37373
X-WR-RELCALID:BayAreaScience.org Unravelling the mysteries of globular clusters, dwarf galaxies, and dark matter 20250111T193000
X-WR-TIMEZONE:America/New_York
X-WR-CALNAME:BayAreaScience.org
BEGIN:VEVENT
URL;VALUE=URI:https://www.bayareascience.org/calendar/index.php?com=detail&eID=37373
DTSTART:20250111T193000
DTEND:20250111T210000
SUMMARY:Unravelling the mysteries of globular clusters\, dwarf galaxies\, and dark matter
DESCRIPTION:Speaker: Aaron Romanowsky\, San Jose State University\n______________________________\nThis Event Downloaded From a Helios Calendar Powered Site
LOCATION:San Jose Astronomical Association - Houge Park 3972 Twilight Drive\, San Jose\, CA  95124
CATEGORIES:BayAreaScience.org Events
PRIORITY:0
TRANSP:TRANSPARENT
END:VEVENT
END:VCALENDAR