BEGIN:VCALENDAR
VERSION:2.0
METHOD:PUBLISH
CALSCALE:GREGORIAN
PRODID:-//Refresh Web Development//Helios Calendar//EN
X-FROM-URL:https://www.bayareascience.org/calendar/index.php?com=details&eID=37389
X-WR-RELCALID:BayAreaScience.org Asynchronous Oscillation of the Ca2+-Dependent MLCK-Actomyosin System Defines the Flat Apical Geometry of a Steady State Epithelium 20250428T120000
X-WR-TIMEZONE:America/New_York
X-WR-CALNAME:BayAreaScience.org
BEGIN:VEVENT
URL;VALUE=URI:https://www.bayareascience.org/calendar/index.php?com=detail&eID=37389
DTSTART:20250428T120000
DTEND:20250428T125000
SUMMARY:Asynchronous Oscillation of the Ca2+-Dependent MLCK-Actomyosin System Defines the Flat Apical Geometry of a Steady State Epithelium
DESCRIPTION:\n______________________________\nThis Event Downloaded From a Helios Calendar Powered Site
LOCATION:Sonoma State University - Biology Colloquium - 1801 E Cotati Ave Darwin Hall\, Room 103\, Rohnert Park\, CA  94928
CATEGORIES:BayAreaScience.org Events
PRIORITY:0
TRANSP:TRANSPARENT
END:VEVENT
END:VCALENDAR