BEGIN:VCALENDAR
VERSION:2.0
METHOD:PUBLISH
CALSCALE:GREGORIAN
PRODID:-//Refresh Web Development//Helios Calendar//EN
X-FROM-URL:https://www.bayareascience.org/calendar/index.php?com=details&eID=37398
X-WR-RELCALID:BayAreaScience.org Exploring BioAstronautics: A Path to the Stars - Livestream 20250319T193000
X-WR-TIMEZONE:America/New_York
X-WR-CALNAME:BayAreaScience.org
BEGIN:VEVENT
URL;VALUE=URI:https://www.bayareascience.org/calendar/index.php?com=detail&eID=37398
DTSTART:20250319T193000
DTEND:20250319T203000
SUMMARY:Exploring BioAstronautics: A Path to the Stars - Livestream
DESCRIPTION:Right now\, we’re at the dawn of a new space age. As humanity prepares to return to the moon and beyond\, one might ask: how can I be a part of this? Join Ben Foehr\, BS in Aerospace Engineering...\n______________________________\nThis Event Downloaded From a Helios Calendar Powered Site
LOCATION:Marin Science Seminar -  \, \, CA  
CATEGORIES:BayAreaScience.org Events
PRIORITY:0
TRANSP:TRANSPARENT
END:VEVENT
END:VCALENDAR