BEGIN:VCALENDAR
VERSION:2.0
METHOD:PUBLISH
CALSCALE:GREGORIAN
PRODID:-//Refresh Web Development//Helios Calendar//EN
X-FROM-URL:https://www.bayareascience.org/calendar/index.php?com=details&eID=37399
X-WR-RELCALID:BayAreaScience.org  Microbes Mining Minerals: A New Route to Plant Cultivation  20250123T190000
X-WR-TIMEZONE:America/New_York
X-WR-CALNAME:BayAreaScience.org
BEGIN:VEVENT
URL;VALUE=URI:https://www.bayareascience.org/calendar/index.php?com=detail&eID=37399
DTSTART:20250123T190000
DTEND:20250123T200000
SUMMARY: Microbes Mining Minerals: A New Route to Plant Cultivation 
DESCRIPTION:Plants supply us with food\, clothing\, medicines\, fuels\, and other necessities of life.  For their growth\, plants need essential minerals from the soil. These nutrients can be provided by...\n______________________________\nThis Event Downloaded From a Helios Calendar Powered Site
LOCATION:Stanford Linear Accelerator (SLAC) Public Lecture Series - 2575 Sand Hill Road\, Building 51 Kavli Auditorium\, Menlo Park\, CA  94025
CATEGORIES:BayAreaScience.org Events
PRIORITY:0
TRANSP:TRANSPARENT
END:VEVENT
END:VCALENDAR