BEGIN:VCALENDAR
VERSION:2.0
METHOD:PUBLISH
CALSCALE:GREGORIAN
PRODID:-//Refresh Web Development//Helios Calendar//EN
X-FROM-URL:https://www.bayareascience.org/calendar/index.php?com=details&eID=37405
X-WR-RELCALID:BayAreaScience.org Signal (re)processing: How disease states shape signal transduction in CD8+ T cells 20250228T110000
X-WR-TIMEZONE:America/New_York
X-WR-CALNAME:BayAreaScience.org
BEGIN:VEVENT
URL;VALUE=URI:https://www.bayareascience.org/calendar/index.php?com=detail&eID=37405
DTSTART:20250228T110000
DTEND:20250228T120000
SUMMARY:Signal (re)processing: How disease states shape signal transduction in CD8+ T cells
DESCRIPTION:Persistent antigen signaling is known to drive CD8+ T cell exhaustion (TEX) in cancer and chronic infection\, but which downstream kinase cascades control this process are unknown. We found that...\n______________________________\nThis Event Downloaded From a Helios Calendar Powered Site
LOCATION:Weill Hall - UC Berkeley Room 101\, Berkeley\, CA  94720
CATEGORIES:BayAreaScience.org Events
PRIORITY:0
TRANSP:TRANSPARENT
END:VEVENT
END:VCALENDAR