BEGIN:VCALENDAR
VERSION:2.0
METHOD:PUBLISH
CALSCALE:GREGORIAN
PRODID:-//Refresh Web Development//Helios Calendar//EN
X-FROM-URL:https://www.bayareascience.org/calendar/index.php?com=details&eID=37407
X-WR-RELCALID:BayAreaScience.org Sal Khan's Brave New Words 20250311T190000
X-WR-TIMEZONE:America/New_York
X-WR-CALNAME:BayAreaScience.org
BEGIN:VEVENT
URL;VALUE=URI:https://www.bayareascience.org/calendar/index.php?com=detail&eID=37407
DTSTART:20250311T190000
DTEND:20250311T190000
SUMMARY:Sal Khan's Brave New Words
DESCRIPTION:Save the date for an inspiring evening with Sal Khan\, founder of Khan Academy\, as he shares insights from his upcoming book\, Brave New Words: How AI Will Revolutionize Education (and Why That's...\n______________________________\nThis Event Downloaded From a Helios Calendar Powered Site
LOCATION:Computer History Museum - 1401 N Shoreline Blvd  \, Mountain View\, CA  94043
CATEGORIES:BayAreaScience.org Events
PRIORITY:0
TRANSP:TRANSPARENT
END:VEVENT
END:VCALENDAR