BEGIN:VCALENDAR
VERSION:2.0
METHOD:PUBLISH
CALSCALE:GREGORIAN
PRODID:-//Refresh Web Development//Helios Calendar//EN
X-FROM-URL:https://www.bayareascience.org/calendar/index.php?com=details&eID=37413
X-WR-RELCALID:BayAreaScience.org Type 2 Immunity: Insights from RNA and 3D Genome Architecture 20250408T110000
X-WR-TIMEZONE:America/New_York
X-WR-CALNAME:BayAreaScience.org
BEGIN:VEVENT
URL;VALUE=URI:https://www.bayareascience.org/calendar/index.php?com=detail&eID=37413
DTSTART:20250408T110000
DTEND:20250408T120000
SUMMARY:Type 2 Immunity: Insights from RNA and 3D Genome Architecture
DESCRIPTION:Speaker: Jorge Henao-Mejia\, University of Pennsylvania\n______________________________\nThis Event Downloaded From a Helios Calendar Powered Site
LOCATION:Weill Hall - UC Berkeley Room 101\, Berkeley\, CA  94720
CATEGORIES:BayAreaScience.org Events
PRIORITY:0
TRANSP:TRANSPARENT
END:VEVENT
END:VCALENDAR