BEGIN:VCALENDAR
VERSION:2.0
METHOD:PUBLISH
CALSCALE:GREGORIAN
PRODID:-//Refresh Web Development//Helios Calendar//EN
X-FROM-URL:https://www.bayareascience.org/calendar/index.php?com=details&eID=37414
X-WR-RELCALID:BayAreaScience.org Monterey Bay National Marine Sanctuary - Discoveries and Surprises - Livestream 20250128T190000
X-WR-TIMEZONE:America/New_York
X-WR-CALNAME:BayAreaScience.org
BEGIN:VEVENT
URL;VALUE=URI:https://www.bayareascience.org/calendar/index.php?com=detail&eID=37414
DTSTART:20250128T190000
DTEND:20250128T203000
SUMMARY:Monterey Bay National Marine Sanctuary - Discoveries and Surprises - Livestream
DESCRIPTION:Chad King\, Research Ecologist at the Monterey Bay National Marine Sanctuary\, will treat us to his many years exploring the Sanctuary. We will celebrate ocean protection with Chad as he leads us...\n______________________________\nThis Event Downloaded From a Helios Calendar Powered Site
LOCATION:American Cetacean Society -  \, \, CA  
CATEGORIES:BayAreaScience.org Events
PRIORITY:0
TRANSP:TRANSPARENT
END:VEVENT
END:VCALENDAR