BEGIN:VCALENDAR
VERSION:2.0
METHOD:PUBLISH
CALSCALE:GREGORIAN
PRODID:-//Refresh Web Development//Helios Calendar//EN
X-FROM-URL:https://www.bayareascience.org/calendar/index.php?com=details&eID=37420
X-WR-RELCALID:BayAreaScience.org Gamechanger: California Sues ExxonMobil Over Plastic Recycling Lies - Livestream 20250122T160000
X-WR-TIMEZONE:America/New_York
X-WR-CALNAME:BayAreaScience.org
BEGIN:VEVENT
URL;VALUE=URI:https://www.bayareascience.org/calendar/index.php?com=detail&eID=37420
DTSTART:20250122T160000
DTEND:20250122T160000
SUMMARY:Gamechanger: California Sues ExxonMobil Over Plastic Recycling Lies - Livestream
DESCRIPTION:On Monday\, September 23\, 2024 California Attorney General Rob Bonta launched a game changing lawsuit against ExxonMobil\, the largest producer of single-use plastic...\n______________________________\nThis Event Downloaded From a Helios Calendar Powered Site
LOCATION:Beyond Plastics -  \, \, CA  
CATEGORIES:BayAreaScience.org Events
PRIORITY:0
TRANSP:TRANSPARENT
END:VEVENT
END:VCALENDAR