BEGIN:VCALENDAR
VERSION:2.0
METHOD:PUBLISH
CALSCALE:GREGORIAN
PRODID:-//Refresh Web Development//Helios Calendar//EN
X-FROM-URL:https://www.bayareascience.org/calendar/index.php?com=details&eID=37423
X-WR-RELCALID:BayAreaScience.org Electrification and Decarbonization of Chemical Synthesis 20250205T101500
X-WR-TIMEZONE:America/New_York
X-WR-CALNAME:BayAreaScience.org
BEGIN:VEVENT
URL;VALUE=URI:https://www.bayareascience.org/calendar/index.php?com=detail&eID=37423
DTSTART:20250205T101500
DTEND:20250205T113000
SUMMARY:Electrification and Decarbonization of Chemical Synthesis
DESCRIPTION:\n______________________________\nThis Event Downloaded From a Helios Calendar Powered Site
LOCATION:Tan Hall - UC Berkeley Room 180\, Berkeley\, CA  94720
CATEGORIES:BayAreaScience.org Events
PRIORITY:0
TRANSP:TRANSPARENT
END:VEVENT
END:VCALENDAR