BEGIN:VCALENDAR
VERSION:2.0
METHOD:PUBLISH
CALSCALE:GREGORIAN
PRODID:-//Refresh Web Development//Helios Calendar//EN
X-FROM-URL:https://www.bayareascience.org/calendar/index.php?com=details&eID=37425
X-WR-RELCALID:BayAreaScience.org Can Star Trek teach us about Evolution? Yup! - Livestream 20250213T183000
X-WR-TIMEZONE:America/New_York
X-WR-CALNAME:BayAreaScience.org
BEGIN:VEVENT
URL;VALUE=URI:https://www.bayareascience.org/calendar/index.php?com=detail&eID=37425
DTSTART:20250213T183000
DTEND:20250213T183000
SUMMARY:Can Star Trek teach us about Evolution? Yup! - Livestream
DESCRIPTION:While some...\n______________________________\nThis Event Downloaded From a Helios Calendar Powered Site
LOCATION:Bay Area Skeptics -  \, \, CA  
CATEGORIES:BayAreaScience.org Events
PRIORITY:0
TRANSP:TRANSPARENT
END:VEVENT
END:VCALENDAR