BEGIN:VCALENDAR
VERSION:2.0
METHOD:PUBLISH
CALSCALE:GREGORIAN
PRODID:-//Refresh Web Development//Helios Calendar//EN
X-FROM-URL:https://www.bayareascience.org/calendar/index.php?com=details&eID=37436
X-WR-RELCALID:BayAreaScience.org The Science and Policy of Energy and Climate Justice - Livestream 20250221T103000
X-WR-TIMEZONE:America/New_York
X-WR-CALNAME:BayAreaScience.org
BEGIN:VEVENT
URL;VALUE=URI:https://www.bayareascience.org/calendar/index.php?com=detail&eID=37436
DTSTART:20250221T103000
DTEND:20250221T113000
SUMMARY:The Science and Policy of Energy and Climate Justice - Livestream
DESCRIPTION:Climate change disproportionally impacts low-income and vulnerable communities around the world\, the people and places least responsible for the problem. Berkeley professor Daniel Kammen...\n______________________________\nThis Event Downloaded From a Helios Calendar Powered Site
LOCATION:UC Berkeley - Osher Lifelong Learning Institute \, \, CA  
CATEGORIES:BayAreaScience.org Events
PRIORITY:0
TRANSP:TRANSPARENT
END:VEVENT
END:VCALENDAR