BEGIN:VCALENDAR
VERSION:2.0
METHOD:PUBLISH
CALSCALE:GREGORIAN
PRODID:-//Refresh Web Development//Helios Calendar//EN
X-FROM-URL:https://www.bayareascience.org/calendar/index.php?com=details&eID=37439
X-WR-RELCALID:BayAreaScience.org Harnessing natural variation to study the evolution of social behavior 20250123T123000
X-WR-TIMEZONE:America/New_York
X-WR-CALNAME:BayAreaScience.org
BEGIN:VEVENT
URL;VALUE=URI:https://www.bayareascience.org/calendar/index.php?com=detail&eID=37439
DTSTART:20250123T123000
DTEND:20250123T133000
SUMMARY:Harnessing natural variation to study the evolution of social behavior
DESCRIPTION:Natural variation can provide powerful insights into the genetic and environmental factors shaping the origins and evolution of complex traits. Sweat bees harbor extraordinary variation in social...\n______________________________\nThis Event Downloaded From a Helios Calendar Powered Site
LOCATION:Valley Life Sciences Building - UC Berkeley Room 2040\, Berkeley\, CA  94720
CATEGORIES:BayAreaScience.org Events
PRIORITY:0
TRANSP:TRANSPARENT
END:VEVENT
END:VCALENDAR