BEGIN:VCALENDAR
VERSION:2.0
METHOD:PUBLISH
CALSCALE:GREGORIAN
PRODID:-//Refresh Web Development//Helios Calendar//EN
X-FROM-URL:https://www.bayareascience.org/calendar/index.php?com=details&eID=37441
X-WR-RELCALID:BayAreaScience.org The Nature of Adolescence 20250213T123000
X-WR-TIMEZONE:America/New_York
X-WR-CALNAME:BayAreaScience.org
BEGIN:VEVENT
URL;VALUE=URI:https://www.bayareascience.org/calendar/index.php?com=detail&eID=37441
DTSTART:20250213T123000
DTEND:20250213T133000
SUMMARY:The Nature of Adolescence
DESCRIPTION:Humans have a multi-year life stage that begins with pubertal onset and ends with a shift into full adulthood. This period is rife with behavioral and emotional vulnerabilities that include rejection\,...\n______________________________\nThis Event Downloaded From a Helios Calendar Powered Site
LOCATION:Valley Life Sciences Building - UC Berkeley Room 2040\, Berkeley\, CA  94720
CATEGORIES:BayAreaScience.org Events
PRIORITY:0
TRANSP:TRANSPARENT
END:VEVENT
END:VCALENDAR