BEGIN:VCALENDAR
VERSION:2.0
METHOD:PUBLISH
CALSCALE:GREGORIAN
PRODID:-//Refresh Web Development//Helios Calendar//EN
X-FROM-URL:https://www.bayareascience.org/calendar/index.php?com=details&eID=37443
X-WR-RELCALID:BayAreaScience.org Fossils, footprints, and the evolution of human locomotion 20250227T123000
X-WR-TIMEZONE:America/New_York
X-WR-CALNAME:BayAreaScience.org
BEGIN:VEVENT
URL;VALUE=URI:https://www.bayareascience.org/calendar/index.php?com=detail&eID=37443
DTSTART:20250227T123000
DTEND:20250227T133000
SUMMARY:Fossils\, footprints\, and the evolution of human locomotion
DESCRIPTION:Bipedal locomotion is considered one of the defining features that “makes us human”. Hypotheses about the evolution of human bipedalism date back at least as far as Aristotle\, and questions...\n______________________________\nThis Event Downloaded From a Helios Calendar Powered Site
LOCATION:Valley Life Sciences Building - UC Berkeley Room 2040\, Berkeley\, CA  94720
CATEGORIES:BayAreaScience.org Events
PRIORITY:0
TRANSP:TRANSPARENT
END:VEVENT
END:VCALENDAR