BEGIN:VCALENDAR
VERSION:2.0
METHOD:PUBLISH
CALSCALE:GREGORIAN
PRODID:-//Refresh Web Development//Helios Calendar//EN
X-FROM-URL:https://www.bayareascience.org/calendar/index.php?com=details&eID=37444
X-WR-RELCALID:BayAreaScience.org The impacts of hybridization: from molecular mechanism to evolution in nature 20250306T123000
X-WR-TIMEZONE:America/New_York
X-WR-CALNAME:BayAreaScience.org
BEGIN:VEVENT
URL;VALUE=URI:https://www.bayareascience.org/calendar/index.php?com=detail&eID=37444
DTSTART:20250306T123000
DTEND:20250306T133000
SUMMARY:The impacts of hybridization: from molecular mechanism to evolution in nature
DESCRIPTION:Hybridization\, or the exchange of genes between different species\, is much more common than previously recognized. In the past decade\, the genome sequencing revolution has allowed us to peer into...\n______________________________\nThis Event Downloaded From a Helios Calendar Powered Site
LOCATION:Valley Life Sciences Building - UC Berkeley Room 2040\, Berkeley\, CA  94720
CATEGORIES:BayAreaScience.org Events
PRIORITY:0
TRANSP:TRANSPARENT
END:VEVENT
END:VCALENDAR