BEGIN:VCALENDAR
VERSION:2.0
METHOD:PUBLISH
CALSCALE:GREGORIAN
PRODID:-//Refresh Web Development//Helios Calendar//EN
X-FROM-URL:https://www.bayareascience.org/calendar/index.php?com=details&eID=37445
X-WR-RELCALID:BayAreaScience.org Shaping Public Health Amidst Political Change - Livestream 20250130T150000
X-WR-TIMEZONE:America/New_York
X-WR-CALNAME:BayAreaScience.org
BEGIN:VEVENT
URL;VALUE=URI:https://www.bayareascience.org/calendar/index.php?com=detail&eID=37445
DTSTART:20250130T150000
DTEND:20250130T150000
SUMMARY:Shaping Public Health Amidst Political Change - Livestream
DESCRIPTION:This session features Gina Daly\, Director of Federal Government Relations at UC Berkeley and Eve Granatosky\, Principal at Lewis and Burke Associates. Our guests will be giving a brief presentation\,...\n______________________________\nThis Event Downloaded From a Helios Calendar Powered Site
LOCATION:UC Berkeley -  \, \, CA  
CATEGORIES:BayAreaScience.org Events
PRIORITY:0
TRANSP:TRANSPARENT
END:VEVENT
END:VCALENDAR