BEGIN:VCALENDAR
VERSION:2.0
METHOD:PUBLISH
CALSCALE:GREGORIAN
PRODID:-//Refresh Web Development//Helios Calendar//EN
X-FROM-URL:https://www.bayareascience.org/calendar/index.php?com=details&eID=37451
X-WR-RELCALID:BayAreaScience.org Jonathan Mingle on Climate Policy under Trump - Livestream 20250121T170000
X-WR-TIMEZONE:America/New_York
X-WR-CALNAME:BayAreaScience.org
BEGIN:VEVENT
URL;VALUE=URI:https://www.bayareascience.org/calendar/index.php?com=detail&eID=37451
DTSTART:20250121T170000
DTEND:20250121T170000
SUMMARY:Jonathan Mingle on Climate Policy under Trump - Livestream
DESCRIPTION:The Trump campaign has signaled its plans to undo key federal environmental regulations and roll back Biden-era clean energy and climate policies. Journalist Jonathan Mingle will discuss his reporting...\n______________________________\nThis Event Downloaded From a Helios Calendar Powered Site
LOCATION:San Francisco Public Library -  \, \, CA  
CATEGORIES:BayAreaScience.org Events
PRIORITY:0
TRANSP:TRANSPARENT
END:VEVENT
END:VCALENDAR