BEGIN:VCALENDAR
VERSION:2.0
METHOD:PUBLISH
CALSCALE:GREGORIAN
PRODID:-//Refresh Web Development//Helios Calendar//EN
X-FROM-URL:https://www.bayareascience.org/calendar/index.php?com=details&eID=37452
X-WR-RELCALID:BayAreaScience.org Empowering Homes: Transitioning to Renewable Energy 20250126T150000
X-WR-TIMEZONE:America/New_York
X-WR-CALNAME:BayAreaScience.org
BEGIN:VEVENT
URL;VALUE=URI:https://www.bayareascience.org/calendar/index.php?com=detail&eID=37452
DTSTART:20250126T150000
DTEND:20250126T163000
SUMMARY:Empowering Homes: Transitioning to Renewable Energy
DESCRIPTION:Did you know that gas appliances cause more smog in the Bay Area than cars do? And that gas stoves are related to 1 in 8 cases of childhood asthma?GOOD NEWS: there are federal\, state\, and...\n______________________________\nThis Event Downloaded From a Helios Calendar Powered Site
LOCATION:Albany Public Library - 1247 Marin Ave \, Albany\, CA  94706
CATEGORIES:BayAreaScience.org Events
PRIORITY:0
TRANSP:TRANSPARENT
END:VEVENT
END:VCALENDAR