BEGIN:VCALENDAR
VERSION:2.0
METHOD:PUBLISH
CALSCALE:GREGORIAN
PRODID:-//Refresh Web Development//Helios Calendar//EN
X-FROM-URL:https://www.bayareascience.org/calendar/index.php?com=details&eID=37459
X-WR-RELCALID:BayAreaScience.org Robo Lab at CuriOdyssey 20250215T100000
X-WR-TIMEZONE:America/New_York
X-WR-CALNAME:BayAreaScience.org
BEGIN:VEVENT
URL;VALUE=URI:https://www.bayareascience.org/calendar/index.php?com=detail&eID=37459
DTSTART:20250215T100000
DTEND:20250215T140000
SUMMARY:Robo Lab at CuriOdyssey
DESCRIPTION:Do you have an interest in building and design? Come check out our Robo Lab! Over four hours\, participants will get to tour our exhibits workshop and see how the engineering process plays...\n______________________________\nThis Event Downloaded From a Helios Calendar Powered Site
LOCATION:CuriOdyssey - 1651 Coyote Point Drive \, San Mateo\, CA USA 94401
CATEGORIES:BayAreaScience.org Events
PRIORITY:0
TRANSP:TRANSPARENT
END:VEVENT
END:VCALENDAR