BEGIN:VCALENDAR
VERSION:2.0
METHOD:PUBLISH
CALSCALE:GREGORIAN
PRODID:-//Refresh Web Development//Helios Calendar//EN
X-FROM-URL:https://www.bayareascience.org/calendar/index.php?com=details&eID=37462
X-WR-RELCALID:BayAreaScience.org Engineering Real-Time Sensors and Sustainable Materials for a Healthier Planet 20250129T120000
X-WR-TIMEZONE:America/New_York
X-WR-CALNAME:BayAreaScience.org
BEGIN:VEVENT
URL;VALUE=URI:https://www.bayareascience.org/calendar/index.php?com=detail&eID=37462
DTSTART:20250129T120000
DTEND:20250129T130000
SUMMARY:Engineering Real-Time Sensors and Sustainable Materials for a Healthier Planet
DESCRIPTION:We currently face rising global temperatures\, dwindling natural resources\, and increasing threats to human and ecological health. To help meet these challenges\, my research group engineers biomolecules...\n______________________________\nThis Event Downloaded From a Helios Calendar Powered Site
LOCATION:Stanley Hall - UC Berkeley Room 106\, Berkeley\, CA  94720
CATEGORIES:BayAreaScience.org Events
PRIORITY:0
TRANSP:TRANSPARENT
END:VEVENT
END:VCALENDAR