BEGIN:VCALENDAR
VERSION:2.0
METHOD:PUBLISH
CALSCALE:GREGORIAN
PRODID:-//Refresh Web Development//Helios Calendar//EN
X-FROM-URL:https://www.bayareascience.org/calendar/index.php?com=details&eID=37472
X-WR-RELCALID:BayAreaScience.org Spring Bird Walk - SOLD OUT 20250430T090000
X-WR-TIMEZONE:America/New_York
X-WR-CALNAME:BayAreaScience.org
BEGIN:VEVENT
URL;VALUE=URI:https://www.bayareascience.org/calendar/index.php?com=detail&eID=37472
DTSTART:20250430T090000
DTEND:20250430T103000
SUMMARY:Spring Bird Walk - SOLD OUT
DESCRIPTION:Join Chris Carmichael in search of both resident and migrant birds in the Garden’s many bird friendly micro habitats. Chris will be joined by Susan Greef\, Garden Member and avid birder. Beginning...\n______________________________\nThis Event Downloaded From a Helios Calendar Powered Site
LOCATION:UC Botanical Garden - 200 Centennial Drive \, Berkeley\, CA  94720
CATEGORIES:BayAreaScience.org Events
PRIORITY:0
TRANSP:TRANSPARENT
END:VEVENT
END:VCALENDAR