BEGIN:VCALENDAR
VERSION:2.0
METHOD:PUBLISH
CALSCALE:GREGORIAN
PRODID:-//Refresh Web Development//Helios Calendar//EN
X-FROM-URL:https://www.bayareascience.org/calendar/index.php?com=details&eID=37478
X-WR-RELCALID:BayAreaScience.org State of Secure Communications in 2025 20250220T123000
X-WR-TIMEZONE:America/New_York
X-WR-CALNAME:BayAreaScience.org
BEGIN:VEVENT
URL;VALUE=URI:https://www.bayareascience.org/calendar/index.php?com=detail&eID=37478
DTSTART:20250220T123000
DTEND:20250220T140000
SUMMARY:State of Secure Communications in 2025
DESCRIPTION:Have you ever wondered why cybersecurity professionals recommend messaging apps like Signal or use terms like “zero-knowledge encryption” and “privacy by design”?...\n______________________________\nThis Event Downloaded From a Helios Calendar Powered Site
LOCATION:South Hall - UC Berkeley Room 202\, Berkeley\, CA  94720
CATEGORIES:BayAreaScience.org Events
PRIORITY:0
TRANSP:TRANSPARENT
END:VEVENT
END:VCALENDAR