BEGIN:VCALENDAR
VERSION:2.0
METHOD:PUBLISH
CALSCALE:GREGORIAN
PRODID:-//Refresh Web Development//Helios Calendar//EN
X-FROM-URL:https://www.bayareascience.org/calendar/index.php?com=details&eID=37479
X-WR-RELCALID:BayAreaScience.org  Parks As Ancestors: A Reflective Walk 20250118T100000
X-WR-TIMEZONE:America/New_York
X-WR-CALNAME:BayAreaScience.org
BEGIN:VEVENT
URL;VALUE=URI:https://www.bayareascience.org/calendar/index.php?com=detail&eID=37479
DTSTART:20250118T100000
DTEND:20250118T130000
SUMMARY: Parks As Ancestors: A Reflective Walk
DESCRIPTION:Join us for a moderate walk and talk where we will gather and reflect on Parks as Ancestors. Inspired by the books and question What...\n______________________________\nThis Event Downloaded From a Helios Calendar Powered Site
LOCATION:Lands End - 680 Point Lobos Ave. \, San Francisco\, CA USA 94121
CATEGORIES:BayAreaScience.org Events
PRIORITY:0
TRANSP:TRANSPARENT
END:VEVENT
END:VCALENDAR