BEGIN:VCALENDAR
VERSION:2.0
METHOD:PUBLISH
CALSCALE:GREGORIAN
PRODID:-//Refresh Web Development//Helios Calendar//EN
X-FROM-URL:https://www.bayareascience.org/calendar/index.php?com=details&eID=37481
X-WR-RELCALID:BayAreaScience.org Pioneering the next energy frontier: From proven pathways to disruptive breakthroughs 20250123T170000
X-WR-TIMEZONE:America/New_York
X-WR-CALNAME:BayAreaScience.org
BEGIN:VEVENT
URL;VALUE=URI:https://www.bayareascience.org/calendar/index.php?com=detail&eID=37481
DTSTART:20250123T170000
DTEND:20250123T183000
SUMMARY:Pioneering the next energy frontier: From proven pathways to disruptive breakthroughs
DESCRIPTION:Join the Stanford Energy Club for a discussion with Celina Mikolajczak\, chief...\n______________________________\nThis Event Downloaded From a Helios Calendar Powered Site
LOCATION:Graduate School of Business - Stanford University\, Room M104 643 Jane Stanford Way\, Stanford\, CA  94305
CATEGORIES:BayAreaScience.org Events
PRIORITY:0
TRANSP:TRANSPARENT
END:VEVENT
END:VCALENDAR