BEGIN:VCALENDAR
VERSION:2.0
METHOD:PUBLISH
CALSCALE:GREGORIAN
PRODID:-//Refresh Web Development//Helios Calendar//EN
X-FROM-URL:https://www.bayareascience.org/calendar/index.php?com=details&eID=37490
X-WR-RELCALID:BayAreaScience.org EV Ride and Drive  20250308T110000
X-WR-TIMEZONE:America/New_York
X-WR-CALNAME:BayAreaScience.org
BEGIN:VEVENT
URL;VALUE=URI:https://www.bayareascience.org/calendar/index.php?com=detail&eID=37490
DTSTART:20250308T110000
DTEND:20250308T150000
SUMMARY:EV Ride and Drive 
DESCRIPTION:Charge up your weekend and experience electric vehicles (EVs).  At this event\, you’ll have the opportunity to:Sit in\, ride and drive EVs to experience the joy of switching...\n______________________________\nThis Event Downloaded From a Helios Calendar Powered Site
LOCATION:Sunnyvale Community Center  - 550 E Remington Drive  \, Sunnyvale \, CA U.S. 94087
CATEGORIES:BayAreaScience.org Events
PRIORITY:0
TRANSP:TRANSPARENT
END:VEVENT
END:VCALENDAR