BEGIN:VCALENDAR
VERSION:2.0
METHOD:PUBLISH
CALSCALE:GREGORIAN
PRODID:-//Refresh Web Development//Helios Calendar//EN
X-FROM-URL:https://www.bayareascience.org/calendar/index.php?com=details&eID=37491
X-WR-RELCALID:BayAreaScience.org Soda Taxes in California - Public Health Impacts and the Policy Landscape - Livestream 20250121T120000
X-WR-TIMEZONE:America/New_York
X-WR-CALNAME:BayAreaScience.org
BEGIN:VEVENT
URL;VALUE=URI:https://www.bayareascience.org/calendar/index.php?com=detail&eID=37491
DTSTART:20250121T120000
DTEND:20250121T130000
SUMMARY:Soda Taxes in California - Public Health Impacts and the Policy Landscape - Livestream
DESCRIPTION:The recent passage of Measure Z in Santa Cruz marks an important milestone for local soda tax in California. Berkeley\, the first city in the nation to implement a sugary drink tax\, has demonstrated...\n______________________________\nThis Event Downloaded From a Helios Calendar Powered Site
LOCATION:UC Berkeley -  \, \, CA  
CATEGORIES:BayAreaScience.org Events
PRIORITY:0
TRANSP:TRANSPARENT
END:VEVENT
END:VCALENDAR