BEGIN:VCALENDAR
VERSION:2.0
METHOD:PUBLISH
CALSCALE:GREGORIAN
PRODID:-//Refresh Web Development//Helios Calendar//EN
X-FROM-URL:https://www.bayareascience.org/calendar/index.php?com=details&eID=37506
X-WR-RELCALID:BayAreaScience.org CuriOdyssey Weekend Workshop: Sensational Senses 20250322T130000
X-WR-TIMEZONE:America/New_York
X-WR-CALNAME:BayAreaScience.org
BEGIN:VEVENT
URL;VALUE=URI:https://www.bayareascience.org/calendar/index.php?com=detail&eID=37506
DTSTART:20250322T130000
DTEND:20250322T150000
SUMMARY:CuriOdyssey Weekend Workshop: Sensational Senses
DESCRIPTION:Embark on an exciting journey to discover your five senses and the amazing information they help us observe about the world. Through fun activities and experiments\, you’ll learn...\n______________________________\nThis Event Downloaded From a Helios Calendar Powered Site
LOCATION:CuriOdyssey - 1651 Coyote Point Drive \, San Mateo\, CA USA 94401
CATEGORIES:BayAreaScience.org Events
PRIORITY:0
TRANSP:TRANSPARENT
END:VEVENT
END:VCALENDAR