BEGIN:VCALENDAR
VERSION:2.0
METHOD:PUBLISH
CALSCALE:GREGORIAN
PRODID:-//Refresh Web Development//Helios Calendar//EN
X-FROM-URL:https://www.bayareascience.org/calendar/index.php?com=details&eID=37507
X-WR-RELCALID:BayAreaScience.org CuriOdyssey Weekend Workshop: Water Wonders 20250426T130000
X-WR-TIMEZONE:America/New_York
X-WR-CALNAME:BayAreaScience.org
BEGIN:VEVENT
URL;VALUE=URI:https://www.bayareascience.org/calendar/index.php?com=detail&eID=37507
DTSTART:20250426T130000
DTEND:20250426T150000
SUMMARY:CuriOdyssey Weekend Workshop: Water Wonders
DESCRIPTION:Explore the incredible world of water by examining its unique physical and chemical properties through fun experiments and interactive activities. Discover how water changes forms\,...\n______________________________\nThis Event Downloaded From a Helios Calendar Powered Site
LOCATION:CuriOdyssey - 1651 Coyote Point Drive \, San Mateo\, CA USA 94401
CATEGORIES:BayAreaScience.org Events
PRIORITY:0
TRANSP:TRANSPARENT
END:VEVENT
END:VCALENDAR