BEGIN:VCALENDAR
VERSION:2.0
METHOD:PUBLISH
CALSCALE:GREGORIAN
PRODID:-//Refresh Web Development//Helios Calendar//EN
X-FROM-URL:https://www.bayareascience.org/calendar/index.php?com=details&eID=37513
X-WR-RELCALID:BayAreaScience.org New Luddites vs. Biopiracy and AI 20250226T193000
X-WR-TIMEZONE:America/New_York
X-WR-CALNAME:BayAreaScience.org
BEGIN:VEVENT
URL;VALUE=URI:https://www.bayareascience.org/calendar/index.php?com=detail&eID=37513
DTSTART:20250226T193000
DTEND:20250226T193000
SUMMARY:New Luddites vs. Biopiracy and AI
DESCRIPTION:“New Luddites” Camila Morena and Jim Thomas join us fresh from the latest conference on biotech at Asilomar. Up close and deep in the international negotiations on biodiversity\, climate change\,...\n______________________________\nThis Event Downloaded From a Helios Calendar Powered Site
LOCATION:Shaping San Francisco - Eric Quezada Center for Culture and Politics 518 Valencia St\, San Francisco\, CA  94110
CATEGORIES:BayAreaScience.org Events
PRIORITY:0
TRANSP:TRANSPARENT
END:VEVENT
END:VCALENDAR