BEGIN:VCALENDAR
VERSION:2.0
METHOD:PUBLISH
CALSCALE:GREGORIAN
PRODID:-//Refresh Web Development//Helios Calendar//EN
X-FROM-URL:https://www.bayareascience.org/calendar/index.php?com=details&eID=37514
X-WR-RELCALID:BayAreaScience.org Lessons for the Biosphere 20250326T193000
X-WR-TIMEZONE:America/New_York
X-WR-CALNAME:BayAreaScience.org
BEGIN:VEVENT
URL;VALUE=URI:https://www.bayareascience.org/calendar/index.php?com=detail&eID=37514
DTSTART:20250326T193000
DTEND:20250326T193000
SUMMARY:Lessons for the Biosphere
DESCRIPTION:In our seat upon the California...\n______________________________\nThis Event Downloaded From a Helios Calendar Powered Site
LOCATION:Shaping San Francisco - Eric Quezada Center for Culture and Politics 518 Valencia St\, San Francisco\, CA  94110
CATEGORIES:BayAreaScience.org Events
PRIORITY:0
TRANSP:TRANSPARENT
END:VEVENT
END:VCALENDAR