BEGIN:VCALENDAR
VERSION:2.0
METHOD:PUBLISH
CALSCALE:GREGORIAN
PRODID:-//Refresh Web Development//Helios Calendar//EN
X-FROM-URL:https://www.bayareascience.org/calendar/index.php?com=details&eID=37534
X-WR-RELCALID:BayAreaScience.org  FOXSI-4: The Science and Engineering Behind the Suborbital Rocket Capturing Solar Flares 20250203T160000
X-WR-TIMEZONE:America/New_York
X-WR-CALNAME:BayAreaScience.org
BEGIN:VEVENT
URL;VALUE=URI:https://www.bayareascience.org/calendar/index.php?com=detail&eID=37534
DTSTART:20250203T160000
DTEND:20250203T165000
SUMMARY: FOXSI-4: The Science and Engineering Behind the Suborbital Rocket Capturing Solar Flares
DESCRIPTION:Hunter Kanniainen from UC Berkeley's Space Sciences Laboratory will discuss the recently launched Focusing Optics X-ray Solar Imager (FOXSI) sounding rocket.\n______________________________\nThis Event Downloaded From a Helios Calendar Powered Site
LOCATION:Sonoma State University - What Physicists Do - 1801 E. Cotati Ave. Darwin Hall\, Room 103\, Rohnert Park\, CA USA 94928
CATEGORIES:BayAreaScience.org Events
PRIORITY:0
TRANSP:TRANSPARENT
END:VEVENT
END:VCALENDAR