BEGIN:VCALENDAR
VERSION:2.0
METHOD:PUBLISH
CALSCALE:GREGORIAN
PRODID:-//Refresh Web Development//Helios Calendar//EN
X-FROM-URL:https://www.bayareascience.org/calendar/index.php?com=details&eID=37537
X-WR-RELCALID:BayAreaScience.org  Eclipse Megamovie: From 2017 to 2024 - RESCHEDULED 20250414T160000
X-WR-TIMEZONE:America/New_York
X-WR-CALNAME:BayAreaScience.org
BEGIN:VEVENT
URL;VALUE=URI:https://www.bayareascience.org/calendar/index.php?com=detail&eID=37537
DTSTART:20250414T160000
DTEND:20250414T160000
SUMMARY: Eclipse Megamovie: From 2017 to 2024 - RESCHEDULED
DESCRIPTION:Speaker: Laura Peticolas\, Sonoma State UniversityThis event has been rescheduled for April 7\, 2025\n______________________________\nThis Event Downloaded From a Helios Calendar Powered Site
LOCATION:Sonoma State University - What Physicists Do - 1801 E. Cotati Ave. Darwin Hall\, Room 103\, Rohnert Park\, CA USA 94928
CATEGORIES:BayAreaScience.org Events
PRIORITY:0
TRANSP:TRANSPARENT
END:VEVENT
END:VCALENDAR