BEGIN:VCALENDAR
VERSION:2.0
METHOD:PUBLISH
CALSCALE:GREGORIAN
PRODID:-//Refresh Web Development//Helios Calendar//EN
X-FROM-URL:https://www.bayareascience.org/calendar/index.php?com=details&eID=37542
X-WR-RELCALID:BayAreaScience.org  Fermi Gamma-ray Space Telescope: A quest to explore the restless, high-energy Universe 20250224T160000
X-WR-TIMEZONE:America/New_York
X-WR-CALNAME:BayAreaScience.org
BEGIN:VEVENT
URL;VALUE=URI:https://www.bayareascience.org/calendar/index.php?com=detail&eID=37542
DTSTART:20250224T160000
DTEND:20250224T160000
SUMMARY: Fermi Gamma-ray Space Telescope: A quest to explore the restless\, high-energy Universe
DESCRIPTION:Prof. Peter Michelson from Stanford University\, will discuss the development of the Fermi Gamma-ray Space Telescope\, an international observatory led by NASA\, and its many discoveries during the...\n______________________________\nThis Event Downloaded From a Helios Calendar Powered Site
LOCATION:Sonoma State University - What Physicists Do - 1801 E. Cotati Ave. Darwin Hall\, Room 103\, Rohnert Park\, CA USA 94928
CATEGORIES:BayAreaScience.org Events
PRIORITY:0
TRANSP:TRANSPARENT
END:VEVENT
END:VCALENDAR